BEGIN:VCALENDAR
VERSION:2.0
PRODID:-//wp-events-plugin.com//7.2.3.1//EN
TZID:Europe/Berlin
X-WR-TIMEZONE:Europe/Berlin
BEGIN:VEVENT
UID:273@ringen-erfurt.de
DTSTART;TZID=Europe/Berlin:20240401T163000
DTEND;TZID=Europe/Berlin:20240401T180000
DTSTAMP:20240417T090500Z
URL:https://ringen-erfurt.de/events/fortgeschrittenen-training-2024-04-01/
SUMMARY:Fortgeschrittenen Training
DESCRIPTION:Training für Kinder und Jugendliche im Alter von 11-14 Jahren
LOCATION:Ringer Sport Club Erfurt\, Mittelhäuser Straße 27\, Erfurt\, Th
 üringen\, 99089\, Erfurt\, Demokratische Republik Kongo
X-APPLE-STRUCTURED-LOCATION;VALUE=URI;X-ADDRESS=Mittelhäuser Straße 27\, 
 Erfurt\, Thüringen\, 99089\, Erfurt\, Demokratische Republik Kongo;X-APPL
 E-RADIUS=100;X-TITLE=Ringer Sport Club Erfurt:geo:0,0
END:VEVENT
BEGIN:VEVENT
UID:2@ringen-erfurt.de
DTSTART;TZID=Europe/Berlin:20240401T180000
DTEND;TZID=Europe/Berlin:20240402T193000
DTSTAMP:20240417T084704Z
URL:https://ringen-erfurt.de/events/erwachsenen-training-jugend-a-b-2024-0
 4-01/
SUMMARY:Erwachsenen Training + Jugend A/B
DESCRIPTION:Training für Personen ab 15 Jahren
LOCATION:Ringer Sport Club Erfurt\, Mittelhäuser Straße 27\, Erfurt\, Th
 üringen\, 99089\, Erfurt\, Demokratische Republik Kongo
X-APPLE-STRUCTURED-LOCATION;VALUE=URI;X-ADDRESS=Mittelhäuser Straße 27\, 
 Erfurt\, Thüringen\, 99089\, Erfurt\, Demokratische Republik Kongo;X-APPL
 E-RADIUS=100;X-TITLE=Ringer Sport Club Erfurt:geo:0,0
END:VEVENT
BEGIN:VEVENT
UID:346@ringen-erfurt.de
DTSTART;TZID=Europe/Berlin:20240402T161500
DTEND;TZID=Europe/Berlin:20240402T171500
DTSTAMP:20240417T092428Z
URL:https://ringen-erfurt.de/events/bambini-training-2024-04-02/
SUMMARY:Bambini Training
DESCRIPTION:Kindertraining von 4-6 Jahren
END:VEVENT
BEGIN:VEVENT
UID:274@ringen-erfurt.de
DTSTART;TZID=Europe/Berlin:20240403T163000
DTEND;TZID=Europe/Berlin:20240403T180000
DTSTAMP:20240417T090500Z
URL:https://ringen-erfurt.de/events/fortgeschrittenen-training-2024-04-03/
SUMMARY:Fortgeschrittenen Training
DESCRIPTION:Training für Kinder und Jugendliche im Alter von 11-14 Jahren
LOCATION:Ringer Sport Club Erfurt\, Mittelhäuser Straße 27\, Erfurt\, Th
 üringen\, 99089\, Erfurt\, Demokratische Republik Kongo
X-APPLE-STRUCTURED-LOCATION;VALUE=URI;X-ADDRESS=Mittelhäuser Straße 27\, 
 Erfurt\, Thüringen\, 99089\, Erfurt\, Demokratische Republik Kongo;X-APPL
 E-RADIUS=100;X-TITLE=Ringer Sport Club Erfurt:geo:0,0
END:VEVENT
BEGIN:VEVENT
UID:3@ringen-erfurt.de
DTSTART;TZID=Europe/Berlin:20240403T180000
DTEND;TZID=Europe/Berlin:20240404T193000
DTSTAMP:20240417T084704Z
URL:https://ringen-erfurt.de/events/erwachsenen-training-jugend-a-b-2024-0
 4-03/
SUMMARY:Erwachsenen Training + Jugend A/B
DESCRIPTION:Training für Personen ab 15 Jahren
LOCATION:Ringer Sport Club Erfurt\, Mittelhäuser Straße 27\, Erfurt\, Th
 üringen\, 99089\, Erfurt\, Demokratische Republik Kongo
X-APPLE-STRUCTURED-LOCATION;VALUE=URI;X-ADDRESS=Mittelhäuser Straße 27\, 
 Erfurt\, Thüringen\, 99089\, Erfurt\, Demokratische Republik Kongo;X-APPL
 E-RADIUS=100;X-TITLE=Ringer Sport Club Erfurt:geo:0,0
END:VEVENT
BEGIN:VEVENT
UID:347@ringen-erfurt.de
DTSTART;TZID=Europe/Berlin:20240404T161500
DTEND;TZID=Europe/Berlin:20240404T171500
DTSTAMP:20240417T092428Z
URL:https://ringen-erfurt.de/events/bambini-training-2024-04-04/
SUMMARY:Bambini Training
DESCRIPTION:Kindertraining von 4-6 Jahren
END:VEVENT
BEGIN:VEVENT
UID:275@ringen-erfurt.de
DTSTART;TZID=Europe/Berlin:20240408T163000
DTEND;TZID=Europe/Berlin:20240408T180000
DTSTAMP:20240417T090500Z
URL:https://ringen-erfurt.de/events/fortgeschrittenen-training-2024-04-08/
SUMMARY:Fortgeschrittenen Training
DESCRIPTION:Training für Kinder und Jugendliche im Alter von 11-14 Jahren
LOCATION:Ringer Sport Club Erfurt\, Mittelhäuser Straße 27\, Erfurt\, Th
 üringen\, 99089\, Erfurt\, Demokratische Republik Kongo
X-APPLE-STRUCTURED-LOCATION;VALUE=URI;X-ADDRESS=Mittelhäuser Straße 27\, 
 Erfurt\, Thüringen\, 99089\, Erfurt\, Demokratische Republik Kongo;X-APPL
 E-RADIUS=100;X-TITLE=Ringer Sport Club Erfurt:geo:0,0
END:VEVENT
BEGIN:VEVENT
UID:4@ringen-erfurt.de
DTSTART;TZID=Europe/Berlin:20240408T180000
DTEND;TZID=Europe/Berlin:20240409T193000
DTSTAMP:20240417T084704Z
URL:https://ringen-erfurt.de/events/erwachsenen-training-jugend-a-b-2024-0
 4-08/
SUMMARY:Erwachsenen Training + Jugend A/B
DESCRIPTION:Training für Personen ab 15 Jahren
LOCATION:Ringer Sport Club Erfurt\, Mittelhäuser Straße 27\, Erfurt\, Th
 üringen\, 99089\, Erfurt\, Demokratische Republik Kongo
X-APPLE-STRUCTURED-LOCATION;VALUE=URI;X-ADDRESS=Mittelhäuser Straße 27\, 
 Erfurt\, Thüringen\, 99089\, Erfurt\, Demokratische Republik Kongo;X-APPL
 E-RADIUS=100;X-TITLE=Ringer Sport Club Erfurt:geo:0,0
END:VEVENT
BEGIN:VEVENT
UID:348@ringen-erfurt.de
DTSTART;TZID=Europe/Berlin:20240409T161500
DTEND;TZID=Europe/Berlin:20240409T171500
DTSTAMP:20240417T092428Z
URL:https://ringen-erfurt.de/events/bambini-training-2024-04-09/
SUMMARY:Bambini Training
DESCRIPTION:Kindertraining von 4-6 Jahren
END:VEVENT
BEGIN:VEVENT
UID:276@ringen-erfurt.de
DTSTART;TZID=Europe/Berlin:20240410T163000
DTEND;TZID=Europe/Berlin:20240410T180000
DTSTAMP:20240417T090500Z
URL:https://ringen-erfurt.de/events/fortgeschrittenen-training-2024-04-10/
SUMMARY:Fortgeschrittenen Training
DESCRIPTION:Training für Kinder und Jugendliche im Alter von 11-14 Jahren
LOCATION:Ringer Sport Club Erfurt\, Mittelhäuser Straße 27\, Erfurt\, Th
 üringen\, 99089\, Erfurt\, Demokratische Republik Kongo
X-APPLE-STRUCTURED-LOCATION;VALUE=URI;X-ADDRESS=Mittelhäuser Straße 27\, 
 Erfurt\, Thüringen\, 99089\, Erfurt\, Demokratische Republik Kongo;X-APPL
 E-RADIUS=100;X-TITLE=Ringer Sport Club Erfurt:geo:0,0
END:VEVENT
BEGIN:VEVENT
UID:5@ringen-erfurt.de
DTSTART;TZID=Europe/Berlin:20240410T180000
DTEND;TZID=Europe/Berlin:20240411T193000
DTSTAMP:20240417T084704Z
URL:https://ringen-erfurt.de/events/erwachsenen-training-jugend-a-b-2024-0
 4-10/
SUMMARY:Erwachsenen Training + Jugend A/B
DESCRIPTION:Training für Personen ab 15 Jahren
LOCATION:Ringer Sport Club Erfurt\, Mittelhäuser Straße 27\, Erfurt\, Th
 üringen\, 99089\, Erfurt\, Demokratische Republik Kongo
X-APPLE-STRUCTURED-LOCATION;VALUE=URI;X-ADDRESS=Mittelhäuser Straße 27\, 
 Erfurt\, Thüringen\, 99089\, Erfurt\, Demokratische Republik Kongo;X-APPL
 E-RADIUS=100;X-TITLE=Ringer Sport Club Erfurt:geo:0,0
END:VEVENT
BEGIN:VEVENT
UID:349@ringen-erfurt.de
DTSTART;TZID=Europe/Berlin:20240411T161500
DTEND;TZID=Europe/Berlin:20240411T171500
DTSTAMP:20240417T092428Z
URL:https://ringen-erfurt.de/events/bambini-training-2024-04-11/
SUMMARY:Bambini Training
DESCRIPTION:Kindertraining von 4-6 Jahren
END:VEVENT
BEGIN:VEVENT
UID:277@ringen-erfurt.de
DTSTART;TZID=Europe/Berlin:20240415T163000
DTEND;TZID=Europe/Berlin:20240415T180000
DTSTAMP:20240417T090500Z
URL:https://ringen-erfurt.de/events/fortgeschrittenen-training-2024-04-15/
SUMMARY:Fortgeschrittenen Training
DESCRIPTION:Training für Kinder und Jugendliche im Alter von 11-14 Jahren
LOCATION:Ringer Sport Club Erfurt\, Mittelhäuser Straße 27\, Erfurt\, Th
 üringen\, 99089\, Erfurt\, Demokratische Republik Kongo
X-APPLE-STRUCTURED-LOCATION;VALUE=URI;X-ADDRESS=Mittelhäuser Straße 27\, 
 Erfurt\, Thüringen\, 99089\, Erfurt\, Demokratische Republik Kongo;X-APPL
 E-RADIUS=100;X-TITLE=Ringer Sport Club Erfurt:geo:0,0
END:VEVENT
BEGIN:VEVENT
UID:6@ringen-erfurt.de
DTSTART;TZID=Europe/Berlin:20240415T180000
DTEND;TZID=Europe/Berlin:20240416T193000
DTSTAMP:20240417T084704Z
URL:https://ringen-erfurt.de/events/erwachsenen-training-jugend-a-b-2024-0
 4-15/
SUMMARY:Erwachsenen Training + Jugend A/B
DESCRIPTION:Training für Personen ab 15 Jahren
LOCATION:Ringer Sport Club Erfurt\, Mittelhäuser Straße 27\, Erfurt\, Th
 üringen\, 99089\, Erfurt\, Demokratische Republik Kongo
X-APPLE-STRUCTURED-LOCATION;VALUE=URI;X-ADDRESS=Mittelhäuser Straße 27\, 
 Erfurt\, Thüringen\, 99089\, Erfurt\, Demokratische Republik Kongo;X-APPL
 E-RADIUS=100;X-TITLE=Ringer Sport Club Erfurt:geo:0,0
END:VEVENT
BEGIN:VEVENT
UID:350@ringen-erfurt.de
DTSTART;TZID=Europe/Berlin:20240416T161500
DTEND;TZID=Europe/Berlin:20240416T171500
DTSTAMP:20240417T092428Z
URL:https://ringen-erfurt.de/events/bambini-training-2024-04-16/
SUMMARY:Bambini Training
DESCRIPTION:Kindertraining von 4-6 Jahren
END:VEVENT
BEGIN:VEVENT
UID:278@ringen-erfurt.de
DTSTART;TZID=Europe/Berlin:20240417T163000
DTEND;TZID=Europe/Berlin:20240417T180000
DTSTAMP:20240417T090500Z
URL:https://ringen-erfurt.de/events/fortgeschrittenen-training-2024-04-17/
SUMMARY:Fortgeschrittenen Training
DESCRIPTION:Training für Kinder und Jugendliche im Alter von 11-14 Jahren
LOCATION:Ringer Sport Club Erfurt\, Mittelhäuser Straße 27\, Erfurt\, Th
 üringen\, 99089\, Erfurt\, Demokratische Republik Kongo
X-APPLE-STRUCTURED-LOCATION;VALUE=URI;X-ADDRESS=Mittelhäuser Straße 27\, 
 Erfurt\, Thüringen\, 99089\, Erfurt\, Demokratische Republik Kongo;X-APPL
 E-RADIUS=100;X-TITLE=Ringer Sport Club Erfurt:geo:0,0
END:VEVENT
BEGIN:VEVENT
UID:7@ringen-erfurt.de
DTSTART;TZID=Europe/Berlin:20240417T180000
DTEND;TZID=Europe/Berlin:20240418T193000
DTSTAMP:20240417T084704Z
URL:https://ringen-erfurt.de/events/erwachsenen-training-jugend-a-b-2024-0
 4-17/
SUMMARY:Erwachsenen Training + Jugend A/B
DESCRIPTION:Training für Personen ab 15 Jahren
LOCATION:Ringer Sport Club Erfurt\, Mittelhäuser Straße 27\, Erfurt\, Th
 üringen\, 99089\, Erfurt\, Demokratische Republik Kongo
X-APPLE-STRUCTURED-LOCATION;VALUE=URI;X-ADDRESS=Mittelhäuser Straße 27\, 
 Erfurt\, Thüringen\, 99089\, Erfurt\, Demokratische Republik Kongo;X-APPL
 E-RADIUS=100;X-TITLE=Ringer Sport Club Erfurt:geo:0,0
END:VEVENT
BEGIN:VEVENT
UID:351@ringen-erfurt.de
DTSTART;TZID=Europe/Berlin:20240418T161500
DTEND;TZID=Europe/Berlin:20240418T171500
DTSTAMP:20240417T092428Z
URL:https://ringen-erfurt.de/events/bambini-training-2024-04-18/
SUMMARY:Bambini Training
DESCRIPTION:Kindertraining von 4-6 Jahren
END:VEVENT
BEGIN:VEVENT
UID:452@ringen-erfurt.de
DTSTART;TZID=Europe/Berlin:20240418T173000
DTEND;TZID=Europe/Berlin:20240418T190000
DTSTAMP:20240417T093353Z
URL:https://ringen-erfurt.de/events/anfaenger-training-2024-04-18/
SUMMARY:Anfänger Training
DESCRIPTION:Training für Kinder von 7-10 Jahren
LOCATION:Ringer Sport Club Erfurt\, Mittelhäuser Straße 27\, Erfurt\, Th
 üringen\, 99089\, Erfurt\, Demokratische Republik Kongo
X-APPLE-STRUCTURED-LOCATION;VALUE=URI;X-ADDRESS=Mittelhäuser Straße 27\, 
 Erfurt\, Thüringen\, 99089\, Erfurt\, Demokratische Republik Kongo;X-APPL
 E-RADIUS=100;X-TITLE=Ringer Sport Club Erfurt:geo:0,0
END:VEVENT
BEGIN:VEVENT
UID:279@ringen-erfurt.de
DTSTART;TZID=Europe/Berlin:20240422T163000
DTEND;TZID=Europe/Berlin:20240422T180000
DTSTAMP:20240417T090500Z
URL:https://ringen-erfurt.de/events/fortgeschrittenen-training-2024-04-22/
SUMMARY:Fortgeschrittenen Training
DESCRIPTION:Training für Kinder und Jugendliche im Alter von 11-14 Jahren
LOCATION:Ringer Sport Club Erfurt\, Mittelhäuser Straße 27\, Erfurt\, Th
 üringen\, 99089\, Erfurt\, Demokratische Republik Kongo
X-APPLE-STRUCTURED-LOCATION;VALUE=URI;X-ADDRESS=Mittelhäuser Straße 27\, 
 Erfurt\, Thüringen\, 99089\, Erfurt\, Demokratische Republik Kongo;X-APPL
 E-RADIUS=100;X-TITLE=Ringer Sport Club Erfurt:geo:0,0
END:VEVENT
BEGIN:VEVENT
UID:8@ringen-erfurt.de
DTSTART;TZID=Europe/Berlin:20240422T180000
DTEND;TZID=Europe/Berlin:20240423T193000
DTSTAMP:20240417T084704Z
URL:https://ringen-erfurt.de/events/erwachsenen-training-jugend-a-b-2024-0
 4-22/
SUMMARY:Erwachsenen Training + Jugend A/B
DESCRIPTION:Training für Personen ab 15 Jahren
LOCATION:Ringer Sport Club Erfurt\, Mittelhäuser Straße 27\, Erfurt\, Th
 üringen\, 99089\, Erfurt\, Demokratische Republik Kongo
X-APPLE-STRUCTURED-LOCATION;VALUE=URI;X-ADDRESS=Mittelhäuser Straße 27\, 
 Erfurt\, Thüringen\, 99089\, Erfurt\, Demokratische Republik Kongo;X-APPL
 E-RADIUS=100;X-TITLE=Ringer Sport Club Erfurt:geo:0,0
END:VEVENT
BEGIN:VEVENT
UID:352@ringen-erfurt.de
DTSTART;TZID=Europe/Berlin:20240423T161500
DTEND;TZID=Europe/Berlin:20240423T171500
DTSTAMP:20240417T092428Z
URL:https://ringen-erfurt.de/events/bambini-training-2024-04-23/
SUMMARY:Bambini Training
DESCRIPTION:Kindertraining von 4-6 Jahren
END:VEVENT
BEGIN:VEVENT
UID:453@ringen-erfurt.de
DTSTART;TZID=Europe/Berlin:20240423T173000
DTEND;TZID=Europe/Berlin:20240423T190000
DTSTAMP:20240417T093353Z
URL:https://ringen-erfurt.de/events/anfaenger-training-2024-04-23/
SUMMARY:Anfänger Training
DESCRIPTION:Training für Kinder von 7-10 Jahren
LOCATION:Ringer Sport Club Erfurt\, Mittelhäuser Straße 27\, Erfurt\, Th
 üringen\, 99089\, Erfurt\, Demokratische Republik Kongo
X-APPLE-STRUCTURED-LOCATION;VALUE=URI;X-ADDRESS=Mittelhäuser Straße 27\, 
 Erfurt\, Thüringen\, 99089\, Erfurt\, Demokratische Republik Kongo;X-APPL
 E-RADIUS=100;X-TITLE=Ringer Sport Club Erfurt:geo:0,0
END:VEVENT
BEGIN:VEVENT
UID:280@ringen-erfurt.de
DTSTART;TZID=Europe/Berlin:20240424T163000
DTEND;TZID=Europe/Berlin:20240424T180000
DTSTAMP:20240417T090500Z
URL:https://ringen-erfurt.de/events/fortgeschrittenen-training-2024-04-24/
SUMMARY:Fortgeschrittenen Training
DESCRIPTION:Training für Kinder und Jugendliche im Alter von 11-14 Jahren
LOCATION:Ringer Sport Club Erfurt\, Mittelhäuser Straße 27\, Erfurt\, Th
 üringen\, 99089\, Erfurt\, Demokratische Republik Kongo
X-APPLE-STRUCTURED-LOCATION;VALUE=URI;X-ADDRESS=Mittelhäuser Straße 27\, 
 Erfurt\, Thüringen\, 99089\, Erfurt\, Demokratische Republik Kongo;X-APPL
 E-RADIUS=100;X-TITLE=Ringer Sport Club Erfurt:geo:0,0
END:VEVENT
BEGIN:VEVENT
UID:9@ringen-erfurt.de
DTSTART;TZID=Europe/Berlin:20240424T180000
DTEND;TZID=Europe/Berlin:20240425T193000
DTSTAMP:20240417T084704Z
URL:https://ringen-erfurt.de/events/erwachsenen-training-jugend-a-b-2024-0
 4-24/
SUMMARY:Erwachsenen Training + Jugend A/B
DESCRIPTION:Training für Personen ab 15 Jahren
LOCATION:Ringer Sport Club Erfurt\, Mittelhäuser Straße 27\, Erfurt\, Th
 üringen\, 99089\, Erfurt\, Demokratische Republik Kongo
X-APPLE-STRUCTURED-LOCATION;VALUE=URI;X-ADDRESS=Mittelhäuser Straße 27\, 
 Erfurt\, Thüringen\, 99089\, Erfurt\, Demokratische Republik Kongo;X-APPL
 E-RADIUS=100;X-TITLE=Ringer Sport Club Erfurt:geo:0,0
END:VEVENT
BEGIN:VEVENT
UID:353@ringen-erfurt.de
DTSTART;TZID=Europe/Berlin:20240425T161500
DTEND;TZID=Europe/Berlin:20240425T171500
DTSTAMP:20240417T092428Z
URL:https://ringen-erfurt.de/events/bambini-training-2024-04-25/
SUMMARY:Bambini Training
DESCRIPTION:Kindertraining von 4-6 Jahren
END:VEVENT
BEGIN:VEVENT
UID:454@ringen-erfurt.de
DTSTART;TZID=Europe/Berlin:20240425T173000
DTEND;TZID=Europe/Berlin:20240425T190000
DTSTAMP:20240417T093353Z
URL:https://ringen-erfurt.de/events/anfaenger-training-2024-04-25/
SUMMARY:Anfänger Training
DESCRIPTION:Training für Kinder von 7-10 Jahren
LOCATION:Ringer Sport Club Erfurt\, Mittelhäuser Straße 27\, Erfurt\, Th
 üringen\, 99089\, Erfurt\, Demokratische Republik Kongo
X-APPLE-STRUCTURED-LOCATION;VALUE=URI;X-ADDRESS=Mittelhäuser Straße 27\, 
 Erfurt\, Thüringen\, 99089\, Erfurt\, Demokratische Republik Kongo;X-APPL
 E-RADIUS=100;X-TITLE=Ringer Sport Club Erfurt:geo:0,0
END:VEVENT
BEGIN:VEVENT
UID:281@ringen-erfurt.de
DTSTART;TZID=Europe/Berlin:20240429T163000
DTEND;TZID=Europe/Berlin:20240429T180000
DTSTAMP:20240417T090500Z
URL:https://ringen-erfurt.de/events/fortgeschrittenen-training-2024-04-29/
SUMMARY:Fortgeschrittenen Training
DESCRIPTION:Training für Kinder und Jugendliche im Alter von 11-14 Jahren
LOCATION:Ringer Sport Club Erfurt\, Mittelhäuser Straße 27\, Erfurt\, Th
 üringen\, 99089\, Erfurt\, Demokratische Republik Kongo
X-APPLE-STRUCTURED-LOCATION;VALUE=URI;X-ADDRESS=Mittelhäuser Straße 27\, 
 Erfurt\, Thüringen\, 99089\, Erfurt\, Demokratische Republik Kongo;X-APPL
 E-RADIUS=100;X-TITLE=Ringer Sport Club Erfurt:geo:0,0
END:VEVENT
BEGIN:VEVENT
UID:10@ringen-erfurt.de
DTSTART;TZID=Europe/Berlin:20240429T180000
DTEND;TZID=Europe/Berlin:20240430T193000
DTSTAMP:20240417T084704Z
URL:https://ringen-erfurt.de/events/erwachsenen-training-jugend-a-b-2024-0
 4-29/
SUMMARY:Erwachsenen Training + Jugend A/B
DESCRIPTION:Training für Personen ab 15 Jahren
LOCATION:Ringer Sport Club Erfurt\, Mittelhäuser Straße 27\, Erfurt\, Th
 üringen\, 99089\, Erfurt\, Demokratische Republik Kongo
X-APPLE-STRUCTURED-LOCATION;VALUE=URI;X-ADDRESS=Mittelhäuser Straße 27\, 
 Erfurt\, Thüringen\, 99089\, Erfurt\, Demokratische Republik Kongo;X-APPL
 E-RADIUS=100;X-TITLE=Ringer Sport Club Erfurt:geo:0,0
END:VEVENT
BEGIN:VEVENT
UID:354@ringen-erfurt.de
DTSTART;TZID=Europe/Berlin:20240430T161500
DTEND;TZID=Europe/Berlin:20240430T171500
DTSTAMP:20240417T092428Z
URL:https://ringen-erfurt.de/events/bambini-training-2024-04-30/
SUMMARY:Bambini Training
DESCRIPTION:Kindertraining von 4-6 Jahren
END:VEVENT
BEGIN:VEVENT
UID:455@ringen-erfurt.de
DTSTART;TZID=Europe/Berlin:20240430T173000
DTEND;TZID=Europe/Berlin:20240430T190000
DTSTAMP:20240417T093353Z
URL:https://ringen-erfurt.de/events/anfaenger-training-2024-04-30/
SUMMARY:Anfänger Training
DESCRIPTION:Training für Kinder von 7-10 Jahren
LOCATION:Ringer Sport Club Erfurt\, Mittelhäuser Straße 27\, Erfurt\, Th
 üringen\, 99089\, Erfurt\, Demokratische Republik Kongo
X-APPLE-STRUCTURED-LOCATION;VALUE=URI;X-ADDRESS=Mittelhäuser Straße 27\, 
 Erfurt\, Thüringen\, 99089\, Erfurt\, Demokratische Republik Kongo;X-APPL
 E-RADIUS=100;X-TITLE=Ringer Sport Club Erfurt:geo:0,0
END:VEVENT
BEGIN:VEVENT
UID:282@ringen-erfurt.de
DTSTART;TZID=Europe/Berlin:20240501T163000
DTEND;TZID=Europe/Berlin:20240501T180000
DTSTAMP:20240417T090500Z
URL:https://ringen-erfurt.de/events/fortgeschrittenen-training-2024-05-01/
SUMMARY:Fortgeschrittenen Training
DESCRIPTION:Training für Kinder und Jugendliche im Alter von 11-14 Jahren
LOCATION:Ringer Sport Club Erfurt\, Mittelhäuser Straße 27\, Erfurt\, Th
 üringen\, 99089\, Erfurt\, Demokratische Republik Kongo
X-APPLE-STRUCTURED-LOCATION;VALUE=URI;X-ADDRESS=Mittelhäuser Straße 27\, 
 Erfurt\, Thüringen\, 99089\, Erfurt\, Demokratische Republik Kongo;X-APPL
 E-RADIUS=100;X-TITLE=Ringer Sport Club Erfurt:geo:0,0
END:VEVENT
BEGIN:VEVENT
UID:11@ringen-erfurt.de
DTSTART;TZID=Europe/Berlin:20240501T180000
DTEND;TZID=Europe/Berlin:20240502T193000
DTSTAMP:20240417T084704Z
URL:https://ringen-erfurt.de/events/erwachsenen-training-jugend-a-b-2024-0
 5-01/
SUMMARY:Erwachsenen Training + Jugend A/B
DESCRIPTION:Training für Personen ab 15 Jahren
LOCATION:Ringer Sport Club Erfurt\, Mittelhäuser Straße 27\, Erfurt\, Th
 üringen\, 99089\, Erfurt\, Demokratische Republik Kongo
X-APPLE-STRUCTURED-LOCATION;VALUE=URI;X-ADDRESS=Mittelhäuser Straße 27\, 
 Erfurt\, Thüringen\, 99089\, Erfurt\, Demokratische Republik Kongo;X-APPL
 E-RADIUS=100;X-TITLE=Ringer Sport Club Erfurt:geo:0,0
END:VEVENT
BEGIN:VEVENT
UID:355@ringen-erfurt.de
DTSTART;TZID=Europe/Berlin:20240502T161500
DTEND;TZID=Europe/Berlin:20240502T171500
DTSTAMP:20240417T092428Z
URL:https://ringen-erfurt.de/events/bambini-training-2024-05-02/
SUMMARY:Bambini Training
DESCRIPTION:Kindertraining von 4-6 Jahren
END:VEVENT
BEGIN:VEVENT
UID:456@ringen-erfurt.de
DTSTART;TZID=Europe/Berlin:20240502T173000
DTEND;TZID=Europe/Berlin:20240502T190000
DTSTAMP:20240417T093353Z
URL:https://ringen-erfurt.de/events/anfaenger-training-2024-05-02/
SUMMARY:Anfänger Training
DESCRIPTION:Training für Kinder von 7-10 Jahren
LOCATION:Ringer Sport Club Erfurt\, Mittelhäuser Straße 27\, Erfurt\, Th
 üringen\, 99089\, Erfurt\, Demokratische Republik Kongo
X-APPLE-STRUCTURED-LOCATION;VALUE=URI;X-ADDRESS=Mittelhäuser Straße 27\, 
 Erfurt\, Thüringen\, 99089\, Erfurt\, Demokratische Republik Kongo;X-APPL
 E-RADIUS=100;X-TITLE=Ringer Sport Club Erfurt:geo:0,0
END:VEVENT
BEGIN:VEVENT
UID:283@ringen-erfurt.de
DTSTART;TZID=Europe/Berlin:20240506T163000
DTEND;TZID=Europe/Berlin:20240506T180000
DTSTAMP:20240417T090500Z
URL:https://ringen-erfurt.de/events/fortgeschrittenen-training-2024-05-06/
SUMMARY:Fortgeschrittenen Training
DESCRIPTION:Training für Kinder und Jugendliche im Alter von 11-14 Jahren
LOCATION:Ringer Sport Club Erfurt\, Mittelhäuser Straße 27\, Erfurt\, Th
 üringen\, 99089\, Erfurt\, Demokratische Republik Kongo
X-APPLE-STRUCTURED-LOCATION;VALUE=URI;X-ADDRESS=Mittelhäuser Straße 27\, 
 Erfurt\, Thüringen\, 99089\, Erfurt\, Demokratische Republik Kongo;X-APPL
 E-RADIUS=100;X-TITLE=Ringer Sport Club Erfurt:geo:0,0
END:VEVENT
BEGIN:VEVENT
UID:12@ringen-erfurt.de
DTSTART;TZID=Europe/Berlin:20240506T180000
DTEND;TZID=Europe/Berlin:20240507T193000
DTSTAMP:20240417T084704Z
URL:https://ringen-erfurt.de/events/erwachsenen-training-jugend-a-b-2024-0
 5-06/
SUMMARY:Erwachsenen Training + Jugend A/B
DESCRIPTION:Training für Personen ab 15 Jahren
LOCATION:Ringer Sport Club Erfurt\, Mittelhäuser Straße 27\, Erfurt\, Th
 üringen\, 99089\, Erfurt\, Demokratische Republik Kongo
X-APPLE-STRUCTURED-LOCATION;VALUE=URI;X-ADDRESS=Mittelhäuser Straße 27\, 
 Erfurt\, Thüringen\, 99089\, Erfurt\, Demokratische Republik Kongo;X-APPL
 E-RADIUS=100;X-TITLE=Ringer Sport Club Erfurt:geo:0,0
END:VEVENT
BEGIN:VEVENT
UID:356@ringen-erfurt.de
DTSTART;TZID=Europe/Berlin:20240507T161500
DTEND;TZID=Europe/Berlin:20240507T171500
DTSTAMP:20240417T092428Z
URL:https://ringen-erfurt.de/events/bambini-training-2024-05-07/
SUMMARY:Bambini Training
DESCRIPTION:Kindertraining von 4-6 Jahren
END:VEVENT
BEGIN:VEVENT
UID:457@ringen-erfurt.de
DTSTART;TZID=Europe/Berlin:20240507T173000
DTEND;TZID=Europe/Berlin:20240507T190000
DTSTAMP:20240417T093353Z
URL:https://ringen-erfurt.de/events/anfaenger-training-2024-05-07/
SUMMARY:Anfänger Training
DESCRIPTION:Training für Kinder von 7-10 Jahren
LOCATION:Ringer Sport Club Erfurt\, Mittelhäuser Straße 27\, Erfurt\, Th
 üringen\, 99089\, Erfurt\, Demokratische Republik Kongo
X-APPLE-STRUCTURED-LOCATION;VALUE=URI;X-ADDRESS=Mittelhäuser Straße 27\, 
 Erfurt\, Thüringen\, 99089\, Erfurt\, Demokratische Republik Kongo;X-APPL
 E-RADIUS=100;X-TITLE=Ringer Sport Club Erfurt:geo:0,0
END:VEVENT
BEGIN:VEVENT
UID:284@ringen-erfurt.de
DTSTART;TZID=Europe/Berlin:20240508T163000
DTEND;TZID=Europe/Berlin:20240508T180000
DTSTAMP:20240417T090500Z
URL:https://ringen-erfurt.de/events/fortgeschrittenen-training-2024-05-08/
SUMMARY:Fortgeschrittenen Training
DESCRIPTION:Training für Kinder und Jugendliche im Alter von 11-14 Jahren
LOCATION:Ringer Sport Club Erfurt\, Mittelhäuser Straße 27\, Erfurt\, Th
 üringen\, 99089\, Erfurt\, Demokratische Republik Kongo
X-APPLE-STRUCTURED-LOCATION;VALUE=URI;X-ADDRESS=Mittelhäuser Straße 27\, 
 Erfurt\, Thüringen\, 99089\, Erfurt\, Demokratische Republik Kongo;X-APPL
 E-RADIUS=100;X-TITLE=Ringer Sport Club Erfurt:geo:0,0
END:VEVENT
BEGIN:VEVENT
UID:13@ringen-erfurt.de
DTSTART;TZID=Europe/Berlin:20240508T180000
DTEND;TZID=Europe/Berlin:20240509T193000
DTSTAMP:20240417T084704Z
URL:https://ringen-erfurt.de/events/erwachsenen-training-jugend-a-b-2024-0
 5-08/
SUMMARY:Erwachsenen Training + Jugend A/B
DESCRIPTION:Training für Personen ab 15 Jahren
LOCATION:Ringer Sport Club Erfurt\, Mittelhäuser Straße 27\, Erfurt\, Th
 üringen\, 99089\, Erfurt\, Demokratische Republik Kongo
X-APPLE-STRUCTURED-LOCATION;VALUE=URI;X-ADDRESS=Mittelhäuser Straße 27\, 
 Erfurt\, Thüringen\, 99089\, Erfurt\, Demokratische Republik Kongo;X-APPL
 E-RADIUS=100;X-TITLE=Ringer Sport Club Erfurt:geo:0,0
END:VEVENT
BEGIN:VEVENT
UID:357@ringen-erfurt.de
DTSTART;TZID=Europe/Berlin:20240509T161500
DTEND;TZID=Europe/Berlin:20240509T171500
DTSTAMP:20240417T092428Z
URL:https://ringen-erfurt.de/events/bambini-training-2024-05-09/
SUMMARY:Bambini Training
DESCRIPTION:Kindertraining von 4-6 Jahren
END:VEVENT
BEGIN:VEVENT
UID:458@ringen-erfurt.de
DTSTART;TZID=Europe/Berlin:20240509T173000
DTEND;TZID=Europe/Berlin:20240509T190000
DTSTAMP:20240417T093353Z
URL:https://ringen-erfurt.de/events/anfaenger-training-2024-05-09/
SUMMARY:Anfänger Training
DESCRIPTION:Training für Kinder von 7-10 Jahren
LOCATION:Ringer Sport Club Erfurt\, Mittelhäuser Straße 27\, Erfurt\, Th
 üringen\, 99089\, Erfurt\, Demokratische Republik Kongo
X-APPLE-STRUCTURED-LOCATION;VALUE=URI;X-ADDRESS=Mittelhäuser Straße 27\, 
 Erfurt\, Thüringen\, 99089\, Erfurt\, Demokratische Republik Kongo;X-APPL
 E-RADIUS=100;X-TITLE=Ringer Sport Club Erfurt:geo:0,0
END:VEVENT
BEGIN:VEVENT
UID:285@ringen-erfurt.de
DTSTART;TZID=Europe/Berlin:20240513T163000
DTEND;TZID=Europe/Berlin:20240513T180000
DTSTAMP:20240417T090500Z
URL:https://ringen-erfurt.de/events/fortgeschrittenen-training-2024-05-13/
SUMMARY:Fortgeschrittenen Training
DESCRIPTION:Training für Kinder und Jugendliche im Alter von 11-14 Jahren
LOCATION:Ringer Sport Club Erfurt\, Mittelhäuser Straße 27\, Erfurt\, Th
 üringen\, 99089\, Erfurt\, Demokratische Republik Kongo
X-APPLE-STRUCTURED-LOCATION;VALUE=URI;X-ADDRESS=Mittelhäuser Straße 27\, 
 Erfurt\, Thüringen\, 99089\, Erfurt\, Demokratische Republik Kongo;X-APPL
 E-RADIUS=100;X-TITLE=Ringer Sport Club Erfurt:geo:0,0
END:VEVENT
BEGIN:VEVENT
UID:14@ringen-erfurt.de
DTSTART;TZID=Europe/Berlin:20240513T180000
DTEND;TZID=Europe/Berlin:20240514T193000
DTSTAMP:20240417T084704Z
URL:https://ringen-erfurt.de/events/erwachsenen-training-jugend-a-b-2024-0
 5-13/
SUMMARY:Erwachsenen Training + Jugend A/B
DESCRIPTION:Training für Personen ab 15 Jahren
LOCATION:Ringer Sport Club Erfurt\, Mittelhäuser Straße 27\, Erfurt\, Th
 üringen\, 99089\, Erfurt\, Demokratische Republik Kongo
X-APPLE-STRUCTURED-LOCATION;VALUE=URI;X-ADDRESS=Mittelhäuser Straße 27\, 
 Erfurt\, Thüringen\, 99089\, Erfurt\, Demokratische Republik Kongo;X-APPL
 E-RADIUS=100;X-TITLE=Ringer Sport Club Erfurt:geo:0,0
END:VEVENT
BEGIN:VEVENT
UID:358@ringen-erfurt.de
DTSTART;TZID=Europe/Berlin:20240514T161500
DTEND;TZID=Europe/Berlin:20240514T171500
DTSTAMP:20240417T092428Z
URL:https://ringen-erfurt.de/events/bambini-training-2024-05-14/
SUMMARY:Bambini Training
DESCRIPTION:Kindertraining von 4-6 Jahren
END:VEVENT
BEGIN:VEVENT
UID:459@ringen-erfurt.de
DTSTART;TZID=Europe/Berlin:20240514T173000
DTEND;TZID=Europe/Berlin:20240514T190000
DTSTAMP:20240417T093353Z
URL:https://ringen-erfurt.de/events/anfaenger-training-2024-05-14/
SUMMARY:Anfänger Training
DESCRIPTION:Training für Kinder von 7-10 Jahren
LOCATION:Ringer Sport Club Erfurt\, Mittelhäuser Straße 27\, Erfurt\, Th
 üringen\, 99089\, Erfurt\, Demokratische Republik Kongo
X-APPLE-STRUCTURED-LOCATION;VALUE=URI;X-ADDRESS=Mittelhäuser Straße 27\, 
 Erfurt\, Thüringen\, 99089\, Erfurt\, Demokratische Republik Kongo;X-APPL
 E-RADIUS=100;X-TITLE=Ringer Sport Club Erfurt:geo:0,0
END:VEVENT
BEGIN:VEVENT
UID:286@ringen-erfurt.de
DTSTART;TZID=Europe/Berlin:20240515T163000
DTEND;TZID=Europe/Berlin:20240515T180000
DTSTAMP:20240417T090500Z
URL:https://ringen-erfurt.de/events/fortgeschrittenen-training-2024-05-15/
SUMMARY:Fortgeschrittenen Training
DESCRIPTION:Training für Kinder und Jugendliche im Alter von 11-14 Jahren
LOCATION:Ringer Sport Club Erfurt\, Mittelhäuser Straße 27\, Erfurt\, Th
 üringen\, 99089\, Erfurt\, Demokratische Republik Kongo
X-APPLE-STRUCTURED-LOCATION;VALUE=URI;X-ADDRESS=Mittelhäuser Straße 27\, 
 Erfurt\, Thüringen\, 99089\, Erfurt\, Demokratische Republik Kongo;X-APPL
 E-RADIUS=100;X-TITLE=Ringer Sport Club Erfurt:geo:0,0
END:VEVENT
BEGIN:VEVENT
UID:15@ringen-erfurt.de
DTSTART;TZID=Europe/Berlin:20240515T180000
DTEND;TZID=Europe/Berlin:20240516T193000
DTSTAMP:20240417T084704Z
URL:https://ringen-erfurt.de/events/erwachsenen-training-jugend-a-b-2024-0
 5-15/
SUMMARY:Erwachsenen Training + Jugend A/B
DESCRIPTION:Training für Personen ab 15 Jahren
LOCATION:Ringer Sport Club Erfurt\, Mittelhäuser Straße 27\, Erfurt\, Th
 üringen\, 99089\, Erfurt\, Demokratische Republik Kongo
X-APPLE-STRUCTURED-LOCATION;VALUE=URI;X-ADDRESS=Mittelhäuser Straße 27\, 
 Erfurt\, Thüringen\, 99089\, Erfurt\, Demokratische Republik Kongo;X-APPL
 E-RADIUS=100;X-TITLE=Ringer Sport Club Erfurt:geo:0,0
END:VEVENT
BEGIN:VEVENT
UID:359@ringen-erfurt.de
DTSTART;TZID=Europe/Berlin:20240516T161500
DTEND;TZID=Europe/Berlin:20240516T171500
DTSTAMP:20240417T092428Z
URL:https://ringen-erfurt.de/events/bambini-training-2024-05-16/
SUMMARY:Bambini Training
DESCRIPTION:Kindertraining von 4-6 Jahren
END:VEVENT
BEGIN:VTIMEZONE
TZID:Europe/Berlin
X-LIC-LOCATION:Europe/Berlin
BEGIN:DAYLIGHT
DTSTART:20240331T030000
TZOFFSETFROM:+0100
TZOFFSETTO:+0200
TZNAME:CEST
END:DAYLIGHT
END:VTIMEZONE
END:VCALENDAR